BEGIN:VCALENDAR
VERSION:2.0
PRODID:-//wp-events-plugin.com//7.2.3.1//EN
TZID:Europe/Berlin
X-WR-TIMEZONE:Europe/Berlin
BEGIN:VEVENT
UID:183@hunsrueck-evangelisch.de
DTSTART;TZID=Europe/Berlin:20260311T183000
DTEND;TZID=Europe/Berlin:20260311T200000
DTSTAMP:20260302T075805Z
URL:https://www.hunsrueck-evangelisch.de/veranstaltungen/abend-der-begegnu
 ng-zuhoeren-austauschen-voneinander-lernen/
SUMMARY:Abend der Begegnung - zuhören\, austauschen\, voneinander lernen
DESCRIPTION:
ATTACH;FMTTYPE=image/jpeg:https://www.hunsrueck-evangelisch.de/wp-content/
 uploads/2026/02/CCI27022026-scaled.jpg
LOCATION:Ernst-Gillmann-Haus\, Römerberg 1\, Simmern (Hunsrück)\, Deutsch
 land
GEO:49.984756;7.522765
X-APPLE-STRUCTURED-LOCATION;VALUE=URI;X-ADDRESS=Römerberg 1\, Simmern (Hun
 srück)\, Deutschland;X-APPLE-RADIUS=100;X-TITLE=Ernst-Gillmann-Haus:geo:4
 9.984756,7.522765
END:VEVENT
BEGIN:VTIMEZONE
TZID:Europe/Berlin
X-LIC-LOCATION:Europe/Berlin
BEGIN:STANDARD
DTSTART:20251026T020000
TZOFFSETFROM:+0200
TZOFFSETTO:+0100
TZNAME:CET
END:STANDARD
END:VTIMEZONE
END:VCALENDAR