BEGIN:VCALENDAR
VERSION:2.0
PRODID:-//wp-events-plugin.com//7.2.3.1//EN
TZID:Europe/Berlin
X-WR-TIMEZONE:Europe/Berlin
BEGIN:VEVENT
UID:188@hunsrueck-evangelisch.de
DTSTART;TZID=Europe/Berlin:20260322T170000
DTEND;TZID=Europe/Berlin:20260322T170000
DTSTAMP:20260305T074328Z
URL:https://www.hunsrueck-evangelisch.de/veranstaltungen/festliches-konzer
 t-fuer-blechblaeser-und-orgel/
SUMMARY:Festliches Konzert für Blechbläser und Orgel
DESCRIPTION:
ATTACH;FMTTYPE=image/jpeg:https://www.hunsrueck-evangelisch.de/wp-content/
 uploads/2026/03/260322.lauter-Freude-sein-2-pdf.jpg
LOCATION:Evangelische Stephanskirche Simmern\, Fruchtmarkt 1\, Simmern (Hun
 srück)\, 55469\, Deutschland
GEO:49.984919;7.52304
X-APPLE-STRUCTURED-LOCATION;VALUE=URI;X-ADDRESS=Fruchtmarkt 1\, Simmern (Hu
 nsrück)\, 55469\, Deutschland;X-APPLE-RADIUS=100;X-TITLE=Evangelische Ste
 phanskirche Simmern:geo:49.984919,7.52304
END:VEVENT
BEGIN:VTIMEZONE
TZID:Europe/Berlin
X-LIC-LOCATION:Europe/Berlin
BEGIN:STANDARD
DTSTART:20251026T020000
TZOFFSETFROM:+0200
TZOFFSETTO:+0100
TZNAME:CET
END:STANDARD
END:VTIMEZONE
END:VCALENDAR