BEGIN:VCALENDAR
VERSION:2.0
PRODID:-//wp-events-plugin.com//7.2.3.1//EN
TZID:Europe/Berlin
X-WR-TIMEZONE:Europe/Berlin
BEGIN:VEVENT
UID:185@hunsrueck-evangelisch.de
DTSTART;TZID=Europe/Berlin:20260314T190000
DTEND;TZID=Europe/Berlin:20260314T203000
DTSTAMP:20260302T075733Z
URL:https://www.hunsrueck-evangelisch.de/veranstaltungen/gottesdienst-der-
 aus-dem-rahmen-faellt-6/
SUMMARY:Gottesdienst\, der aus dem Rahmen fällt
DESCRIPTION:
ATTACH;FMTTYPE=image/jpeg:https://www.hunsrueck-evangelisch.de/wp-content/
 uploads/2026/03/CCI02032026-scaled.jpg
CATEGORIES:Gottesdienst
LOCATION:Evangelische Kirche Altweidelbach\, Hauptstraße 13\, Altweidelbac
 h\, 55469\, Deutschland
GEO:49.996635;7.566431
X-APPLE-STRUCTURED-LOCATION;VALUE=URI;X-ADDRESS=Hauptstraße 13\, Altweidel
 bach\, 55469\, Deutschland;X-APPLE-RADIUS=100;X-TITLE=Evangelische Kirche 
 Altweidelbach:geo:49.996635,7.566431
END:VEVENT
BEGIN:VTIMEZONE
TZID:Europe/Berlin
X-LIC-LOCATION:Europe/Berlin
BEGIN:STANDARD
DTSTART:20251026T020000
TZOFFSETFROM:+0200
TZOFFSETTO:+0100
TZNAME:CET
END:STANDARD
END:VTIMEZONE
END:VCALENDAR