BEGIN:VCALENDAR
VERSION:2.0
PRODID:-//wp-events-plugin.com//7.2.3.1//EN
TZID:Europe/Berlin
X-WR-TIMEZONE:Europe/Berlin
BEGIN:VEVENT
UID:108@hunsrueck-evangelisch.de
DTSTART;TZID=Europe/Berlin:20250518T093000
DTEND;TZID=Europe/Berlin:20250518T103000
DTSTAMP:20250516T061524Z
URL:https://www.hunsrueck-evangelisch.de/veranstaltungen/gottesdienst-fuer
 -gross-klein-in-holzbach/
SUMMARY:Gottesdienst für GROSS & klein in Holzbach
DESCRIPTION:
ATTACH;FMTTYPE=image/jpeg:https://www.hunsrueck-evangelisch.de/wp-content/
 uploads/2025/05/Beige-Bunt-Verspielt-Modern-Kinderfest-Poster-1.jpg
LOCATION:Kirche Holzbach\, Kirchstraße 6\, 55469 Holzbach\, Deutschland
GEO:49.954273;7.529306
X-APPLE-STRUCTURED-LOCATION;VALUE=URI;X-ADDRESS=Kirchstraße 6\, 55469 Holz
 bach\, Deutschland;X-APPLE-RADIUS=100;X-TITLE=Kirche Holzbach:geo:49.95427
 3,7.529306
END:VEVENT
BEGIN:VTIMEZONE
TZID:Europe/Berlin
X-LIC-LOCATION:Europe/Berlin
BEGIN:DAYLIGHT
DTSTART:20250330T030000
TZOFFSETFROM:+0100
TZOFFSETTO:+0200
TZNAME:CEST
END:DAYLIGHT
END:VTIMEZONE
END:VCALENDAR