BEGIN:VCALENDAR
VERSION:2.0
PRODID:-//wp-events-plugin.com//7.2.3.1//EN
TZID:Europe/Berlin
X-WR-TIMEZONE:Europe/Berlin
BEGIN:VEVENT
UID:36@hunsrueck-evangelisch.de
DTSTART;TZID=Europe/Berlin:20241020T093000
DTEND;TZID=Europe/Berlin:20241020T103000
DTSTAMP:20240620T055445Z
URL:https://www.hunsrueck-evangelisch.de/veranstaltungen/gottesdienst-zum-
 mirjamsonntag/
SUMMARY:Gottesdienst zum Mirjamsonntag
DESCRIPTION:
ATTACH;FMTTYPE=image/jpeg:https://www.hunsrueck-evangelisch.de/wp-content/
 uploads/2024/06/2024-10-20-Plakat-Mirjamsonntag-Anzeige-pdf.jpg
CATEGORIES:Gottesdienst
LOCATION:Paul-Schneider-Haus\, Klostergasse 8\, Simmern (Hunsrück)\, 55469
 \, Deutschland
GEO:49.983299;7.522447
X-APPLE-STRUCTURED-LOCATION;VALUE=URI;X-ADDRESS=Klostergasse 8\, Simmern (H
 unsrück)\, 55469\, Deutschland;X-APPLE-RADIUS=100;X-TITLE=Paul-Schneider-
 Haus:geo:49.983299,7.522447
END:VEVENT
BEGIN:VTIMEZONE
TZID:Europe/Berlin
X-LIC-LOCATION:Europe/Berlin
BEGIN:DAYLIGHT
DTSTART:20240331T030000
TZOFFSETFROM:+0100
TZOFFSETTO:+0200
TZNAME:CEST
END:DAYLIGHT
END:VTIMEZONE
END:VCALENDAR