BEGIN:VCALENDAR
VERSION:2.0
PRODID:-//wp-events-plugin.com//7.2.3.1//EN
TZID:Europe/Berlin
X-WR-TIMEZONE:Europe/Berlin
BEGIN:VEVENT
UID:111@hunsrueck-evangelisch.de
DTSTART;TZID=Europe/Berlin:20250824T130000
DTEND;TZID=Europe/Berlin:20250824T160000
DTSTAMP:20250519T091600Z
URL:https://www.hunsrueck-evangelisch.de/veranstaltungen/jugendkirsche-gro
 sse-eroeffnung/
SUMMARY:Jugendkir(s)che - Große Eröffnung
DESCRIPTION:
ATTACH;FMTTYPE=image/jpeg:https://www.hunsrueck-evangelisch.de/wp-content/
 uploads/2025/05/Komplett-Eroeffnung-1.png
LOCATION:Jugendkir(s)che Argenthal\, Bingener Straße 20\, Argenthal\, Deut
 schland
GEO:49.976686;7.599943
X-APPLE-STRUCTURED-LOCATION;VALUE=URI;X-ADDRESS=Bingener Straße 20\, Argen
 thal\, Deutschland;X-APPLE-RADIUS=100;X-TITLE=Jugendkir(s)che Argenthal:ge
 o:49.976686,7.599943
END:VEVENT
BEGIN:VTIMEZONE
TZID:Europe/Berlin
X-LIC-LOCATION:Europe/Berlin
BEGIN:DAYLIGHT
DTSTART:20250330T030000
TZOFFSETFROM:+0100
TZOFFSETTO:+0200
TZNAME:CEST
END:DAYLIGHT
END:VTIMEZONE
END:VCALENDAR