BEGIN:VCALENDAR
VERSION:2.0
PRODID:-//wp-events-plugin.com//7.2.3.1//EN
TZID:Europe/Berlin
X-WR-TIMEZONE:Europe/Berlin
BEGIN:VEVENT
UID:87@hunsrueck-evangelisch.de
DTSTART;TZID=Europe/Berlin:20250220T180000
DTEND;TZID=Europe/Berlin:20250220T180000
DTSTAMP:20250131T121440Z
URL:https://www.hunsrueck-evangelisch.de/veranstaltungen/musikalische-aben
 dandacht-in-neuerkirch/
SUMMARY:Musikalische Abendandacht in Neuerkirch
DESCRIPTION:
ATTACH;FMTTYPE=image/jpeg:https://www.hunsrueck-evangelisch.de/wp-content/
 uploads/2025/01/CCI31012025-scaled.jpg
CATEGORIES:Andacht
END:VEVENT
BEGIN:VTIMEZONE
TZID:Europe/Berlin
X-LIC-LOCATION:Europe/Berlin
BEGIN:STANDARD
DTSTART:20241027T020000
TZOFFSETFROM:+0200
TZOFFSETTO:+0100
TZNAME:CET
END:STANDARD
END:VTIMEZONE
END:VCALENDAR