BEGIN:VCALENDAR
VERSION:2.0
PRODID:-//wp-events-plugin.com//7.2.3.1//EN
TZID:Europe/Berlin
X-WR-TIMEZONE:Europe/Berlin
BEGIN:VEVENT
UID:113@hunsrueck-evangelisch.de
DTSTART;TZID=Europe/Berlin:20250609T110000
DTEND;TZID=Europe/Berlin:20250609T110000
DTSTAMP:20250527T110654Z
URL:https://www.hunsrueck-evangelisch.de/veranstaltungen/oekum-gottesdiens
 t-am-pfingstmontag/
SUMMARY:Ökum. Gottesdienst am Pfingstmontag
DESCRIPTION:
ATTACH;FMTTYPE=image/jpeg:https://www.hunsrueck-evangelisch.de/wp-content/
 uploads/2025/05/Oekumenischer-Gottesdienst-Pfingsten-2025-9x13-1-pdf.jpg
LOCATION:Simmersee\, Am Simmersee\, Simmern (Hunsrück)\, 55469\, Deutschla
 nd
GEO:49.99361;7.542745
X-APPLE-STRUCTURED-LOCATION;VALUE=URI;X-ADDRESS=Am Simmersee\, Simmern (Hun
 srück)\, 55469\, Deutschland;X-APPLE-RADIUS=100;X-TITLE=Simmersee:geo:49.
 99361,7.542745
END:VEVENT
BEGIN:VTIMEZONE
TZID:Europe/Berlin
X-LIC-LOCATION:Europe/Berlin
BEGIN:DAYLIGHT
DTSTART:20250330T030000
TZOFFSETFROM:+0100
TZOFFSETTO:+0200
TZNAME:CEST
END:DAYLIGHT
END:VTIMEZONE
END:VCALENDAR