BEGIN:VCALENDAR
VERSION:2.0
PRODID:-//wp-events-plugin.com//7.2.3.1//EN
TZID:Europe/Berlin
X-WR-TIMEZONE:Europe/Berlin
BEGIN:VEVENT
UID:117@hunsrueck-evangelisch.de
DTSTART;TZID=Europe/Berlin:20250615T000000
DTEND;TZID=Europe/Berlin:20250928T000000
DTSTAMP:20250610T065405Z
URL:https://www.hunsrueck-evangelisch.de/veranstaltungen/oekum-kinderkirch
 e-biebern/
SUMMARY:ökum. Kinderkirche Biebern
DESCRIPTION:
ATTACH;FMTTYPE=image/jpeg:https://www.hunsrueck-evangelisch.de/wp-content/
 uploads/2025/06/Plakat-Kinderkirche-Biebern-A4-1.jpg
CATEGORIES:Kindergottesdienst
END:VEVENT
BEGIN:VTIMEZONE
TZID:Europe/Berlin
X-LIC-LOCATION:Europe/Berlin
BEGIN:DAYLIGHT
DTSTART:20250330T030000
TZOFFSETFROM:+0100
TZOFFSETTO:+0200
TZNAME:CEST
END:DAYLIGHT
END:VTIMEZONE
END:VCALENDAR