BEGIN:VCALENDAR
VERSION:2.0
PRODID:-//wp-events-plugin.com//7.2.3.1//EN
TZID:Europe/Berlin
X-WR-TIMEZONE:Europe/Berlin
BEGIN:VEVENT
UID:187@hunsrueck-evangelisch.de
DTSTART;TZID=Europe/Berlin:20260406T110000
DTEND;TZID=Europe/Berlin:20260406T110000
DTSTAMP:20260303T095629Z
URL:https://www.hunsrueck-evangelisch.de/veranstaltungen/ostergottesdienst
 -fuer-gross-und-klein-3/
SUMMARY:Ostergottesdienst für Groß und Klein
DESCRIPTION:
ATTACH;FMTTYPE=image/jpeg:https://www.hunsrueck-evangelisch.de/wp-content/
 uploads/2026/03/Colorful-Cute-Easter-Egg-Hunt-Poster-pdf.jpg
LOCATION:Ev. Kirche Neuerkirch\, Külzbachstraße 2\, Neuerkirch\, 55471\, 
 Deutschland
GEO:50.01327;7.491271
X-APPLE-STRUCTURED-LOCATION;VALUE=URI;X-ADDRESS=Külzbachstraße 2\, Neuerk
 irch\, 55471\, Deutschland;X-APPLE-RADIUS=100;X-TITLE=Ev. Kirche Neuerkirc
 h:geo:50.01327,7.491271
END:VEVENT
BEGIN:VTIMEZONE
TZID:Europe/Berlin
X-LIC-LOCATION:Europe/Berlin
BEGIN:DAYLIGHT
DTSTART:20260329T030000
TZOFFSETFROM:+0100
TZOFFSETTO:+0200
TZNAME:CEST
END:DAYLIGHT
END:VTIMEZONE
END:VCALENDAR