BEGIN:VCALENDAR
VERSION:2.0
PRODID:-//wp-events-plugin.com//7.2.3.1//EN
TZID:Europe/Berlin
X-WR-TIMEZONE:Europe/Berlin
BEGIN:VEVENT
UID:107@hunsrueck-evangelisch.de
DTSTART;TZID=Europe/Berlin:20250518T110000
DTEND;TZID=Europe/Berlin:20250518T120000
DTSTAMP:20250513T072951Z
URL:https://www.hunsrueck-evangelisch.de/veranstaltungen/sonntag-kantate-i
 n-ravengiersburg/
SUMMARY:"Sonntag Kantate" in Ravengiersburg
DESCRIPTION:
ATTACH;FMTTYPE=image/jpeg:https://www.hunsrueck-evangelisch.de/wp-content/
 uploads/2025/05/2025-05-18-Kantate-Anzeige-2-pdf.jpg
LOCATION:Evangelische Kirche Ravengiersburg\, Hauptstraße\, Ravengiersburg
 \, 55471\, Deutschland
GEO:49.937017;7.477005
X-APPLE-STRUCTURED-LOCATION;VALUE=URI;X-ADDRESS=Hauptstraße\, Ravengiersbu
 rg\, 55471\, Deutschland;X-APPLE-RADIUS=100;X-TITLE=Evangelische Kirche Ra
 vengiersburg:geo:49.937017,7.477005
END:VEVENT
BEGIN:VTIMEZONE
TZID:Europe/Berlin
X-LIC-LOCATION:Europe/Berlin
BEGIN:DAYLIGHT
DTSTART:20250330T030000
TZOFFSETFROM:+0100
TZOFFSETTO:+0200
TZNAME:CEST
END:DAYLIGHT
END:VTIMEZONE
END:VCALENDAR