BEGIN:VCALENDAR
VERSION:2.0
PRODID:-//wp-events-plugin.com//7.2.3.1//EN
TZID:Europe/Berlin
X-WR-TIMEZONE:Europe/Berlin
BEGIN:VEVENT
UID:114@hunsrueck-evangelisch.de
DTSTART;TZID=Europe/Berlin:20250608T110000
DTEND;TZID=Europe/Berlin:20250608T110000
DTSTAMP:20250527T111846Z
URL:https://www.hunsrueck-evangelisch.de/veranstaltungen/spielplatzgottesd
 ienst-in-niederkumbd/
SUMMARY:Spielplatzgottesdienst in Niederkumbd
DESCRIPTION:
ATTACH;FMTTYPE=image/jpeg:https://www.hunsrueck-evangelisch.de/wp-content/
 uploads/2025/05/Bayanihan-City-Church-presents-1-pdf.jpg
LOCATION:Spielplatz in Niederkumbd\, Simmerner Straße\, Niederkumbd\, Deut
 schland
GEO:50.01047;7.536163
X-APPLE-STRUCTURED-LOCATION;VALUE=URI;X-ADDRESS=Simmerner Straße\, Niederk
 umbd\, Deutschland;X-APPLE-RADIUS=100;X-TITLE=Spielplatz in Niederkumbd:ge
 o:50.01047,7.536163
END:VEVENT
BEGIN:VTIMEZONE
TZID:Europe/Berlin
X-LIC-LOCATION:Europe/Berlin
BEGIN:DAYLIGHT
DTSTART:20250330T030000
TZOFFSETFROM:+0100
TZOFFSETTO:+0200
TZNAME:CEST
END:DAYLIGHT
END:VTIMEZONE
END:VCALENDAR