BEGIN:VCALENDAR
VERSION:2.0
PRODID:-//wp-events-plugin.com//7.2.3.1//EN
TZID:Europe/Berlin
X-WR-TIMEZONE:Europe/Berlin
BEGIN:VEVENT
UID:106@hunsrueck-evangelisch.de
DTSTART;TZID=Europe/Berlin:20250601T180000
DTEND;TZID=Europe/Berlin:20250601T190000
DTSTAMP:20250512T063108Z
URL:https://www.hunsrueck-evangelisch.de/veranstaltungen/unsere-dorfkirche
 -lebt-2/
SUMMARY:Unsere Dorfkirche lebt!
DESCRIPTION:
ATTACH;FMTTYPE=image/jpeg:https://www.hunsrueck-evangelisch.de/wp-content/
 uploads/2025/05/A938E3A9-E32A-4CD6-9A25-D116339EC4A4.png
LOCATION:Evangelische Kirche Ravengiersburg\, Hauptstraße\, Ravengiersburg
 \, 55471\, Deutschland
GEO:49.937017;7.477005
X-APPLE-STRUCTURED-LOCATION;VALUE=URI;X-ADDRESS=Hauptstraße\, Ravengiersbu
 rg\, 55471\, Deutschland;X-APPLE-RADIUS=100;X-TITLE=Evangelische Kirche Ra
 vengiersburg:geo:49.937017,7.477005
END:VEVENT
BEGIN:VTIMEZONE
TZID:Europe/Berlin
X-LIC-LOCATION:Europe/Berlin
BEGIN:DAYLIGHT
DTSTART:20250330T030000
TZOFFSETFROM:+0100
TZOFFSETTO:+0200
TZNAME:CEST
END:DAYLIGHT
END:VTIMEZONE
END:VCALENDAR